Package: TOAST Version: 1.22.0 Command: rm -rf TOAST.buildbin-libdir && mkdir TOAST.buildbin-libdir && /Users/biocbuild/BBS/utils/build-universal.sh TOAST_1.22.0.tar.gz /Library/Frameworks/R.framework/Resources/bin/R TOAST.buildbin-libdir StartedAt: 2025-04-21 22:55:28 -0400 (Mon, 21 Apr 2025) EndedAt: 2025-04-21 22:55:39 -0400 (Mon, 21 Apr 2025) EllapsedTime: 11.3 seconds RetCode: 0 Status: OK PackageFile: TOAST_1.22.0.tgz PackageFileSize: 3.767 MiB