Package: TOAST Version: 1.22.0 Command: /Library/Frameworks/R.framework/Resources/bin/R CMD INSTALL TOAST StartedAt: 2025-04-24 16:57:41 -0400 (Thu, 24 Apr 2025) EndedAt: 2025-04-24 16:58:09 -0400 (Thu, 24 Apr 2025) EllapsedTime: 28.1 seconds RetCode: 0 Status: OK