Package: TOAST Version: 1.22.0 Maintainer: Ziyi Li MaintainerEmail: zli16 at mdanderson.org git_url: https://git.bioconductor.org/packages/TOAST git_branch: RELEASE_3_21 git_last_commit: d37b279 git_last_commit_date: 2025-04-15 11:47:20 -0400 (Tue, 15 Apr 2025)