Package: TMSig Version: 1.0.0 Command: chmod a+r TMSig -R && F:\biocbuild\bbs-3.20-bioc\R\bin\R.exe CMD build --keep-empty-dirs --no-resave-data TMSig StartedAt: 2025-01-30 22:20:12 -0500 (Thu, 30 Jan 2025) EndedAt: 2025-01-30 22:21:26 -0500 (Thu, 30 Jan 2025) EllapsedTime: 74.1 seconds RetCode: 0 Status: OK PackageFile: TMSig_1.0.0.tar.gz PackageFileSize: 2.588 MiB