Package: TIN Version: 1.40.0 Command: /Library/Frameworks/R.framework/Resources/bin/R CMD check --install=check:TIN.install-out.txt --library=/Library/Frameworks/R.framework/Resources/library --no-vignettes --timings TIN_1.40.0.tar.gz StartedAt: 2025-05-23 11:13:30 -0400 (Fri, 23 May 2025) EndedAt: 2025-05-23 11:20:22 -0400 (Fri, 23 May 2025) EllapsedTime: 411.6 seconds RetCode: 0 Status: OK CheckDir: TIN.Rcheck Warnings: 0