Package: TFEA.ChIP Version: 1.28.0 Command: /Library/Frameworks/R.framework/Resources/bin/R CMD INSTALL TFEA.ChIP StartedAt: 2025-05-12 17:10:43 -0400 (Mon, 12 May 2025) EndedAt: 2025-05-12 17:11:28 -0400 (Mon, 12 May 2025) EllapsedTime: 45.1 seconds RetCode: 0 Status: OK