Package: TFEA.ChIP Version: 1.28.0 Command: rm -rf TFEA.ChIP.buildbin-libdir && mkdir TFEA.ChIP.buildbin-libdir && /Users/biocbuild/BBS/utils/build-universal.sh TFEA.ChIP_1.28.0.tar.gz /Library/Frameworks/R.framework/Resources/bin/R TFEA.ChIP.buildbin-libdir StartedAt: 2025-10-11 22:38:34 -0400 (Sat, 11 Oct 2025) EndedAt: 2025-10-11 22:39:28 -0400 (Sat, 11 Oct 2025) EllapsedTime: 54.7 seconds RetCode: 0 Status: OK PackageFile: TFEA.ChIP_1.28.0.tgz PackageFileSize: 5.216 MiB