Package: TFBSTools Version: 1.46.0 Command: /home/biocbuild/R/R/bin/R CMD INSTALL TFBSTools StartedAt: 2025-05-12 21:05:49 -0000 (Mon, 12 May 2025) EndedAt: 2025-05-12 21:06:52 -0000 (Mon, 12 May 2025) EllapsedTime: 63.3 seconds RetCode: 0 Status: OK