Package: TFBSTools Version: 1.46.0 Command: rm -rf TFBSTools.buildbin-libdir && mkdir TFBSTools.buildbin-libdir && /Users/biocbuild/BBS/utils/build-universal.sh TFBSTools_1.46.0.tar.gz /Library/Frameworks/R.framework/Resources/bin/R TFBSTools.buildbin-libdir StartedAt: 2025-04-21 22:55:07 -0400 (Mon, 21 Apr 2025) EndedAt: 2025-04-21 22:55:27 -0400 (Mon, 21 Apr 2025) EllapsedTime: 20.5 seconds RetCode: 0 Status: OK PackageFile: TFBSTools_1.46.0.tgz PackageFileSize: 2.056 MiB