Package: TFARM Version: 1.28.0 Command: /home/biocbuild/R/R/bin/R CMD INSTALL TFARM StartedAt: 2025-01-30 20:19:30 -0000 (Thu, 30 Jan 2025) EndedAt: 2025-01-30 20:19:49 -0000 (Thu, 30 Jan 2025) EllapsedTime: 18.9 seconds RetCode: 0 Status: OK