Package: TFARM Version: 1.28.0 Command: /home/biocbuild/R/R/bin/R CMD build --keep-empty-dirs --no-resave-data TFARM StartedAt: 2025-01-31 03:09:35 -0000 (Fri, 31 Jan 2025) EndedAt: 2025-01-31 03:11:40 -0000 (Fri, 31 Jan 2025) EllapsedTime: 125.1 seconds RetCode: 0 Status: OK PackageFile: TFARM_1.28.0.tar.gz PackageFileSize: 450.2 KiB