Package: TFARM Version: 1.30.0 Command: rm -rf TFARM.buildbin-libdir && mkdir TFARM.buildbin-libdir && /Users/biocbuild/BBS/utils/build-universal.sh TFARM_1.30.0.tar.gz /Library/Frameworks/R.framework/Resources/bin/R TFARM.buildbin-libdir StartedAt: 2025-04-21 22:55:06 -0400 (Mon, 21 Apr 2025) EndedAt: 2025-04-21 22:55:14 -0400 (Mon, 21 Apr 2025) EllapsedTime: 7.2 seconds RetCode: 0 Status: OK PackageFile: TFARM_1.30.0.tgz PackageFileSize: 535.2 KiB