Package: TENxIO Version: 1.10.2 Command: chmod a+r TENxIO -R && E:\biocbuild\bbs-3.21-bioc\R\bin\R.exe CMD build --keep-empty-dirs --no-resave-data TENxIO StartedAt: 2025-08-14 22:41:04 -0400 (Thu, 14 Aug 2025) EndedAt: 2025-08-14 22:42:17 -0400 (Thu, 14 Aug 2025) EllapsedTime: 73.1 seconds RetCode: 0 Status: OK PackageFile: TENxIO_1.10.2.tar.gz PackageFileSize: 256.7 KiB