Package: TENxIO Version: 1.10.0 Command: /Library/Frameworks/R.framework/Resources/bin/R CMD build --keep-empty-dirs --no-resave-data TENxIO StartedAt: 2025-05-05 22:55:39 -0400 (Mon, 05 May 2025) EndedAt: 2025-05-05 22:57:05 -0400 (Mon, 05 May 2025) EllapsedTime: 86.0 seconds RetCode: 1 Status: ERROR PackageFile: None PackageFileSize: NA