Package: TENxIO Version: 1.10.0 Command: /Library/Frameworks/R.framework/Resources/bin/R CMD INSTALL TENxIO StartedAt: 2025-04-21 15:12:43 -0400 (Mon, 21 Apr 2025) EndedAt: 2025-04-21 15:12:54 -0400 (Mon, 21 Apr 2025) EllapsedTime: 11.0 seconds RetCode: 0 Status: OK