Package: TENxIO Version: 1.10.0 Command: /Library/Frameworks/R.framework/Resources/bin/R CMD build --keep-empty-dirs --no-resave-data TENxIO StartedAt: 2025-04-21 17:51:14 -0400 (Mon, 21 Apr 2025) EndedAt: 2025-04-21 17:51:33 -0400 (Mon, 21 Apr 2025) EllapsedTime: 18.2 seconds RetCode: 1 Status: ERROR PackageFile: None PackageFileSize: NA