Package: TENET Version: 1.2.0 Command: /home/biocbuild/bbs-3.22-bioc/R/bin/R CMD INSTALL TENET StartedAt: 2025-11-13 15:37:24 -0500 (Thu, 13 Nov 2025) EndedAt: 2025-11-13 15:38:04 -0500 (Thu, 13 Nov 2025) EllapsedTime: 39.6 seconds RetCode: 0 Status: OK