Package: TEKRABber Version: 1.12.0 Command: /home/biocbuild/bbs-3.21-bioc/R/bin/R CMD build --keep-empty-dirs --no-resave-data TEKRABber StartedAt: 2025-10-08 20:14:44 -0400 (Wed, 08 Oct 2025) EndedAt: 2025-10-08 20:16:40 -0400 (Wed, 08 Oct 2025) EllapsedTime: 116.1 seconds RetCode: 0 Status: OK PackageFile: TEKRABber_1.12.0.tar.gz PackageFileSize: 3.44 MiB