Package: TEKRABber Version: 1.12.0 Command: /Library/Frameworks/R.framework/Resources/bin/R CMD build --keep-empty-dirs --no-resave-data TEKRABber StartedAt: 2025-05-13 09:54:45 -0400 (Tue, 13 May 2025) EndedAt: 2025-05-13 09:56:52 -0400 (Tue, 13 May 2025) EllapsedTime: 127.6 seconds RetCode: 0 Status: OK PackageFile: TEKRABber_1.12.0.tar.gz PackageFileSize: 3.44 MiB