Package: TDbasedUFEadv Version: 1.8.0 Command: /Library/Frameworks/R.framework/Resources/bin/R CMD INSTALL TDbasedUFEadv StartedAt: 2025-04-21 15:24:25 -0400 (Mon, 21 Apr 2025) EndedAt: 2025-04-21 15:24:35 -0400 (Mon, 21 Apr 2025) EllapsedTime: 10.2 seconds RetCode: 0 Status: OK