Package: TDbasedUFEadv Version: 1.8.0 Command: /Library/Frameworks/R.framework/Resources/bin/R CMD check --install=check:TDbasedUFEadv.install-out.txt --library=/Library/Frameworks/R.framework/Resources/library --no-vignettes --timings TDbasedUFEadv_1.8.0.tar.gz StartedAt: 2025-04-21 22:03:25 -0400 (Mon, 21 Apr 2025) EndedAt: 2025-04-21 22:04:54 -0400 (Mon, 21 Apr 2025) EllapsedTime: 89.1 seconds RetCode: 0 Status: OK CheckDir: TDbasedUFEadv.Rcheck Warnings: 0