Package: TDbasedUFEadv Version: 1.8.0 Command: rm -rf TDbasedUFEadv.buildbin-libdir && mkdir TDbasedUFEadv.buildbin-libdir && /Users/biocbuild/BBS/utils/build-universal.sh TDbasedUFEadv_1.8.0.tar.gz /Library/Frameworks/R.framework/Resources/bin/R TDbasedUFEadv.buildbin-libdir StartedAt: 2025-05-21 17:35:19 -0400 (Wed, 21 May 2025) EndedAt: 2025-05-21 17:35:53 -0400 (Wed, 21 May 2025) EllapsedTime: 33.2 seconds RetCode: 0 Status: OK PackageFile: TDbasedUFEadv_1.8.0.tgz PackageFileSize: 3.507 MiB