Package: TDbasedUFE Version: 1.6.0 Command: /home/biocbuild/R/R/bin/R CMD build --keep-empty-dirs --no-resave-data TDbasedUFE StartedAt: 2025-01-31 03:08:41 -0000 (Fri, 31 Jan 2025) EndedAt: 2025-01-31 03:09:19 -0000 (Fri, 31 Jan 2025) EllapsedTime: 38.0 seconds RetCode: 0 Status: OK PackageFile: TDbasedUFE_1.6.0.tar.gz PackageFileSize: 1.039 MiB