Package: TCGAutils Version: 1.26.0 Command: /home/biocbuild/bbs-3.20-bioc/R/bin/R CMD build --keep-empty-dirs --no-resave-data TCGAutils StartedAt: 2024-11-19 22:12:18 -0500 (Tue, 19 Nov 2024) EndedAt: 2024-11-19 22:14:58 -0500 (Tue, 19 Nov 2024) EllapsedTime: 159.9 seconds RetCode: 0 Status: OK PackageFile: TCGAutils_1.26.0.tar.gz PackageFileSize: 405.8 KiB