Package: TCGAutils Version: 1.26.0 Command: /home/biocbuild/R/R/bin/R CMD build --keep-empty-dirs --no-resave-data TCGAutils StartedAt: 2025-01-31 03:08:31 -0000 (Fri, 31 Jan 2025) EndedAt: 2025-01-31 03:10:27 -0000 (Fri, 31 Jan 2025) EllapsedTime: 116.1 seconds RetCode: 1 Status: ERROR PackageFile: None PackageFileSize: NA