Package: TCGAutils Version: 1.28.0 Command: /home/biocbuild/bbs-3.21-bioc/R/bin/R CMD INSTALL TCGAutils StartedAt: 2025-10-05 15:42:43 -0400 (Sun, 05 Oct 2025) EndedAt: 2025-10-05 15:43:21 -0400 (Sun, 05 Oct 2025) EllapsedTime: 37.8 seconds RetCode: 0 Status: OK