Package: TCC Version: 1.48.0 Command: /Library/Frameworks/R.framework/Resources/bin/R CMD build --keep-empty-dirs --no-resave-data TCC StartedAt: 2025-05-02 09:58:26 -0400 (Fri, 02 May 2025) EndedAt: 2025-05-02 10:00:41 -0400 (Fri, 02 May 2025) EllapsedTime: 135.0 seconds RetCode: 0 Status: OK PackageFile: TCC_1.48.0.tar.gz PackageFileSize: 2.602 MiB