Package: TBSignatureProfiler Version: 1.20.0 Maintainer: Aubrey R. Odom MaintainerEmail: aodom at bu.edu git_url: https://git.bioconductor.org/packages/TBSignatureProfiler git_branch: RELEASE_3_21 git_last_commit: 8aaba5a git_last_commit_date: 2025-04-15 11:57:58 -0400 (Tue, 15 Apr 2025)