Package: TAPseq Version: 1.18.0 Command: /home/biocbuild/R/R/bin/R CMD INSTALL TAPseq StartedAt: 2025-01-30 20:30:02 -0000 (Thu, 30 Jan 2025) EndedAt: 2025-01-30 20:30:51 -0000 (Thu, 30 Jan 2025) EllapsedTime: 49.4 seconds RetCode: 0 Status: OK