Package: TAPseq Version: 1.20.0 Command: chmod a+r TAPseq -R && E:\biocbuild\bbs-3.21-bioc\R\bin\R.exe CMD build --keep-empty-dirs --no-resave-data TAPseq StartedAt: 2025-08-14 22:39:11 -0400 (Thu, 14 Aug 2025) EndedAt: 2025-08-14 22:44:42 -0400 (Thu, 14 Aug 2025) EllapsedTime: 330.5 seconds RetCode: 0 Status: OK PackageFile: TAPseq_1.20.0.tar.gz PackageFileSize: 2.438 MiB