Package: TAPseq Version: 1.20.0 Command: /Library/Frameworks/R.framework/Resources/bin/R CMD build --keep-empty-dirs --no-resave-data TAPseq StartedAt: 2025-05-05 22:53:27 -0400 (Mon, 05 May 2025) EndedAt: 2025-05-05 23:01:32 -0400 (Mon, 05 May 2025) EllapsedTime: 484.9 seconds RetCode: 0 Status: OK PackageFile: TAPseq_1.20.0.tar.gz PackageFileSize: 2.526 MiB