Package: TAPseq Version: 1.20.0 Command: /home/biocbuild/R/R/bin/R CMD check --install=check:TAPseq.install-out.txt --library=/home/biocbuild/R/R/site-library --no-vignettes --timings TAPseq_1.20.0.tar.gz StartedAt: 2025-05-06 14:22:58 -0000 (Tue, 06 May 2025) EndedAt: 2025-05-06 14:40:12 -0000 (Tue, 06 May 2025) EllapsedTime: 1034.2 seconds RetCode: 0 Status: WARNINGS CheckDir: TAPseq.Rcheck Warnings: 1