Package: TAPseq Version: 1.20.0 Command: /home/biocbuild/R/R/bin/R CMD build --keep-empty-dirs --no-resave-data TAPseq StartedAt: 2025-05-06 04:59:32 -0000 (Tue, 06 May 2025) EndedAt: 2025-05-06 05:08:04 -0000 (Tue, 06 May 2025) EllapsedTime: 512.2 seconds RetCode: 0 Status: OK PackageFile: TAPseq_1.20.0.tar.gz PackageFileSize: 2.572 MiB