Package: TADCompare Version: 1.16.0 Command: /Library/Frameworks/R.framework/Resources/bin/R CMD INSTALL TADCompare StartedAt: 2025-01-30 16:43:26 -0500 (Thu, 30 Jan 2025) EndedAt: 2025-01-30 16:44:28 -0500 (Thu, 30 Jan 2025) EllapsedTime: 62.9 seconds RetCode: 0 Status: OK