Package: TADCompare
Version: 1.16.0
Command: /Library/Frameworks/R.framework/Resources/bin/R CMD build --keep-empty-dirs --no-resave-data TADCompare
StartedAt: 2024-11-08 19:23:34 -0500 (Fri, 08 Nov 2024)
EndedAt: 2024-11-08 19:24:00 -0500 (Fri, 08 Nov 2024)
EllapsedTime: 26.3 seconds
RetCode: 0
Status: OK
PackageFile: TADCompare_1.16.0.tar.gz
PackageFileSize: 4.195 <A href="http://en.wikipedia.org/wiki/MiB" target="_blank">MiB</A>