Package: SynMut Version: 1.24.0 Command: /home/biocbuild/R/R/bin/R CMD build --keep-empty-dirs --no-resave-data SynMut StartedAt: 2025-05-06 04:57:21 -0000 (Tue, 06 May 2025) EndedAt: 2025-05-06 04:57:46 -0000 (Tue, 06 May 2025) EllapsedTime: 25.0 seconds RetCode: 0 Status: OK PackageFile: SynMut_1.24.0.tar.gz PackageFileSize: 107.2 KiB