Package: SynExtend Version: 1.20.2 Command: rm -rf SynExtend.buildbin-libdir && mkdir SynExtend.buildbin-libdir && E:\biocbuild\bbs-3.21-bioc\R\bin\R.exe CMD INSTALL --build --library=SynExtend.buildbin-libdir SynExtend_1.20.2.tar.gz StartedAt: 2025-08-15 10:26:32 -0400 (Fri, 15 Aug 2025) EndedAt: 2025-08-15 10:28:30 -0400 (Fri, 15 Aug 2025) EllapsedTime: 118.3 seconds RetCode: 0 Status: OK PackageFile: SynExtend_1.20.2.zip PackageFileSize: 4.17 MiB