Package: SynExtend Version: 1.20.0 Command: /home/biocbuild/R/R/bin/R CMD check --install=check:SynExtend.install-out.txt --library=/home/biocbuild/R/R/site-library --no-vignettes --timings SynExtend_1.20.0.tar.gz StartedAt: 2025-05-13 14:40:39 -0000 (Tue, 13 May 2025) EndedAt: 2025-05-13 14:52:24 -0000 (Tue, 13 May 2025) EllapsedTime: 704.0 seconds RetCode: 0 Status: WARNINGS CheckDir: SynExtend.Rcheck Warnings: 1