Package: SynExtend Version: 1.20.0 Command: /home/biocbuild/R/R/bin/R CMD build --keep-empty-dirs --no-resave-data SynExtend StartedAt: 2025-05-13 04:49:00 -0000 (Tue, 13 May 2025) EndedAt: 2025-05-13 04:50:40 -0000 (Tue, 13 May 2025) EllapsedTime: 100.0 seconds RetCode: 0 Status: OK PackageFile: SynExtend_1.20.0.tar.gz PackageFileSize: 3.148 MiB