Package: SwathXtend Version: 2.30.0 Command: /home/biocbuild/bbs-3.21-bioc/R/bin/R CMD build --keep-empty-dirs --no-resave-data SwathXtend StartedAt: 2025-10-05 20:14:42 -0400 (Sun, 05 Oct 2025) EndedAt: 2025-10-05 20:17:44 -0400 (Sun, 05 Oct 2025) EllapsedTime: 182.2 seconds RetCode: 0 Status: OK PackageFile: SwathXtend_2.30.0.tar.gz PackageFileSize: 346.5 MiB