Package: SurfR Version: 1.4.0 Command: /Library/Frameworks/R.framework/Resources/bin/R CMD build --keep-empty-dirs --no-resave-data SurfR StartedAt: 2025-04-21 18:39:30 -0400 (Mon, 21 Apr 2025) EndedAt: 2025-04-21 18:40:19 -0400 (Mon, 21 Apr 2025) EllapsedTime: 49.0 seconds RetCode: 0 Status: OK PackageFile: SurfR_1.4.0.tar.gz PackageFileSize: 372.5 KiB