Package: SurfR Version: 1.4.0 Command: /home/biocbuild/R/R/bin/R CMD check --install=check:SurfR.install-out.txt --library=/home/biocbuild/R/R/site-library --no-vignettes --timings SurfR_1.4.0.tar.gz StartedAt: 2025-05-06 14:16:39 -0000 (Tue, 06 May 2025) EndedAt: 2025-05-06 14:22:58 -0000 (Tue, 06 May 2025) EllapsedTime: 378.5 seconds RetCode: 0 Status: OK CheckDir: SurfR.Rcheck Warnings: 0