Package: SuperCellCyto Version: 1.0.0 Command: /home/biocbuild/bbs-3.22-bioc/R/bin/R CMD INSTALL SuperCellCyto StartedAt: 2025-11-05 15:19:09 -0500 (Wed, 05 Nov 2025) EndedAt: 2025-11-05 15:19:19 -0500 (Wed, 05 Nov 2025) EllapsedTime: 9.6 seconds RetCode: 0 Status: OK