Package: SuperCellCyto Version: 1.0.0 Command: /home/biocbuild/bbs-3.22-bioc/R/bin/R CMD build --keep-empty-dirs --no-resave-data --md5 SuperCellCyto StartedAt: 2025-11-05 20:33:04 -0500 (Wed, 05 Nov 2025) EndedAt: 2025-11-05 20:34:51 -0500 (Wed, 05 Nov 2025) EllapsedTime: 107.1 seconds RetCode: 0 Status: OK PackageFile: SuperCellCyto_1.0.0.tar.gz PackageFileSize: 4.383 MiB