Package: SummarizedBenchmark Version: 2.24.0 Command: /Library/Frameworks/R.framework/Resources/bin/R CMD INSTALL SummarizedBenchmark StartedAt: 2025-01-30 15:48:13 -0500 (Thu, 30 Jan 2025) EndedAt: 2025-01-30 15:49:25 -0500 (Thu, 30 Jan 2025) EllapsedTime: 71.4 seconds RetCode: 0 Status: OK