Package: SummarizedBenchmark Version: 2.24.0 Command: /Library/Frameworks/R.framework/Resources/bin/R CMD build --keep-empty-dirs --no-resave-data SummarizedBenchmark StartedAt: 2025-01-30 23:16:51 -0500 (Thu, 30 Jan 2025) EndedAt: 2025-01-30 23:24:02 -0500 (Thu, 30 Jan 2025) EllapsedTime: 430.5 seconds RetCode: 1 Status: ERROR PackageFile: None PackageFileSize: NA