Package: SummarizedBenchmark Version: 2.24.0 Command: /Library/Frameworks/R.framework/Resources/bin/R CMD build --keep-empty-dirs --no-resave-data SummarizedBenchmark StartedAt: 2025-01-31 09:08:55 -0500 (Fri, 31 Jan 2025) EndedAt: 2025-01-31 09:12:52 -0500 (Fri, 31 Jan 2025) EllapsedTime: 237.1 seconds RetCode: 1 Status: ERROR PackageFile: None PackageFileSize: NA