Package: SubCellBarCode Version: 1.24.0 Command: rm -rf SubCellBarCode.buildbin-libdir && mkdir SubCellBarCode.buildbin-libdir && E:\biocbuild\bbs-3.21-bioc\R\bin\R.exe CMD INSTALL --build --library=SubCellBarCode.buildbin-libdir SubCellBarCode_1.24.0.tar.gz StartedAt: 2025-08-15 10:25:36 -0400 (Fri, 15 Aug 2025) EndedAt: 2025-08-15 10:26:23 -0400 (Fri, 15 Aug 2025) EllapsedTime: 46.8 seconds RetCode: 0 Status: OK PackageFile: SubCellBarCode_1.24.0.zip PackageFileSize: 1.743 MiB