Package: SubCellBarCode Version: 1.24.0 Command: /Library/Frameworks/R.framework/Resources/bin/R CMD build --keep-empty-dirs --no-resave-data SubCellBarCode StartedAt: 2025-07-14 23:06:53 -0400 (Mon, 14 Jul 2025) EndedAt: 2025-07-14 23:14:28 -0400 (Mon, 14 Jul 2025) EllapsedTime: 454.8 seconds RetCode: 0 Status: OK PackageFile: SubCellBarCode_1.24.0.tar.gz PackageFileSize: 2.34 MiB