Package: Structstrings Version: 1.22.1 Command: /home/biocbuild/R/R/bin/R CMD INSTALL Structstrings StartedAt: 2025-02-03 20:31:54 -0000 (Mon, 03 Feb 2025) EndedAt: 2025-02-03 20:32:17 -0000 (Mon, 03 Feb 2025) EllapsedTime: 22.8 seconds RetCode: 0 Status: OK